BEGIN:VCALENDAR
VERSION:2.0
X-WR-TIMEZONE:Europe/Paris
PRODID:-//Audencia//NONSGML v1.0//EN
CALSCALE:GREGORIAN
BEGIN:VEVENT
SUMMARY:Webinar : Linkedin optimisez son potentiel pour votre projet professionnel !
DTSTART:20210209T180000
DTEND:20260425T205845
UID:876
DTSTAMP:20260425T205845
LOCATION:
DESCRIPTION:Audencia Careers partage avec vous les secrets de LinkedIn pour optimiser vos chances de décrocher votre prochaine opportunité professionnelle !\nComment améliorer votre profil et construire un réseau efficace ? Pour en savoir plus inscrivez-vous à cet atelier pour que LinkedIn n'ai plus de secret pour vous\n\nCette session se tiendra via Microsoft Teams.\n \n>> Connectez-vous sur ce lien <<\n\nOrganisé par votre Career Center.
BEGIN:VALARM
ACTION:DISPLAY
TRIGGER:-PT60M
DESCRIPTION:Webinar : Linkedin optimisez son potentiel pour votre projet professionnel !
END:VALARM
END:VEVENT
END:VCALENDAR