BEGIN:VCALENDAR
VERSION:2.0
X-WR-TIMEZONE:Europe/Paris
PRODID:-//Audencia//NONSGML v1.0//EN
CALSCALE:GREGORIAN
BEGIN:VEVENT
SUMMARY:Webinar : Looking for a job in Switzerland: What do you need to know?
DTSTART:20210126T183000
DTEND:20260425T205910
UID:874
DTSTAMP:20260425T205910
LOCATION:
DESCRIPTION:Switzerland is not only about bankers, watches and chocolate.\nIf you are thinking about getting a job in Switzerland, you will first learn in this workshop the specificities and misconceptions about this country in general and the job market in particular. We will cover:\n✓ Switzerland, a small country with a strong liberal economy and a lot of disparities: what does it mean for the job market?\n✓ How to find jobs in Switzerland\n✓ Sources: channels and networks\n✓ Specifics of CVs, letters, interviews\n✓ Work permits\n✓ Salaries, negotiations, work contracts\n✓ Are your competences in demand\n✓ Work mentalities\n✓ Self-employment and freelancing in Switzerland\n\nWebinar organised by your Career Center. 
BEGIN:VALARM
ACTION:DISPLAY
TRIGGER:-PT60M
DESCRIPTION:Webinar : Looking for a job in Switzerland: What do you need to know?
END:VALARM
END:VEVENT
END:VCALENDAR