BEGIN:VCALENDAR
VERSION:2.0
X-WR-TIMEZONE:Europe/Paris
PRODID:-//Audencia//NONSGML v1.0//EN
CALSCALE:GREGORIAN
BEGIN:VEVENT
SUMMARY:Alumni Lunch in Shenzhen, China
DTSTART:20210131T103000
DTEND:20210131T153000
UID:873
DTSTAMP:20260425T205842
LOCATION:Huiju Innovation Park
DESCRIPTION:     
BEGIN:VALARM
ACTION:DISPLAY
TRIGGER:-PT60M
DESCRIPTION:Alumni Lunch in Shenzhen, China
END:VALARM
END:VEVENT
END:VCALENDAR