BEGIN:VCALENDAR
VERSION:2.0
X-WR-TIMEZONE:Europe/Paris
PRODID:-//Audencia//NONSGML v1.0//EN
CALSCALE:GREGORIAN
BEGIN:VEVENT
SUMMARY:Highered Masterclass - “Build Your 2021 Career Portfolio with Highered”
DTSTART:20210120T170000
DTEND:20260425T211354
UID:872
DTSTAMP:20260425T211354
LOCATION:
DESCRIPTION:\n\nHighered Masterclass - “Build Your 2021 Career Portfolio with Highered”\n\nBy Dr. Amber Wigmore Alvarez, Chief Innovation Officer of Highered, detailing how you can optimize the resources and tools available in the network and from your school's GetHighered platform.\n \n>> Registration <<
BEGIN:VALARM
ACTION:DISPLAY
TRIGGER:-PT60M
DESCRIPTION:Highered Masterclass - “Build Your 2021 Career Portfolio with Highered”
END:VALARM
END:VEVENT
END:VCALENDAR