BEGIN:VCALENDAR
VERSION:2.0
X-WR-TIMEZONE:Europe/Paris
PRODID:-//Audencia//NONSGML v1.0//EN
CALSCALE:GREGORIAN
BEGIN:VEVENT
SUMMARY:Conférences et réseautage au Québec, Canada
DTSTART:20210127T234500
DTEND:20210127T235900
UID:870
DTSTAMP:20260425T210655
LOCATION:
DESCRIPTION:Le premier grand événement French Alumni Network de l'année 2021 est là !!!\nL’entrepreneuriat est à l’honneur !\nVenez écouter et échanger avec deux entrepreneurs français aux parcours inspirants qui ont fait le pari de la relève d’une entreprise au Québec. Antoine Chatel et Benoît Cuchet nous présenteront comment ils ont sauté dans l'entrepreneuriat au Québec en faisant l'acquisition de deux PME québécoises. Des paniers de produits seront tirés au sort pour faire découvrir les produits de ces entreprises.\nAprès ces témoignages inspirants nous réseauterons dans des salles virtuelles. Nous reproduisons ainsi la formule connue lors des dîners tournants.\n \n** Inscription ici **\n\nNe manquez pas l’opportunité de réseauter en ligne avec des alumni de grandes écoles et d’universités françaises.\n \n\n	Quand ? Mercredi 27 Janvier 2021\n	Heure ? Dès 17h45 heure locale (Montréal) et jusqu'à 21h\n	Où ? ZOOM. Le lien vous sera envoyé par courriel au plus tard le jour de l'événement.\n	Combien ? Lève-tôt: 8 $. Régulier: 12 $. Frais Eventbrite en sus à l’émission du billet.\n\nParticipation limitée.\n\nProgramme \n(voir le programme complet en cliquant sur ce lien)\n\n\n	17h45-18h00: Accueil des alumni\n	18h00-18h30: Mot d’introduction\n	18h30-20h00: Questions & Échanges\n	20h00-21h00: Optionnel. Prolongement du réseautage en ligne dans plusieurs salles virtuelles thématiques pour une mise en contacts entre les alumni.\n\n \n\n** Inscription ici **\n\nNB: Les participants seront majoritairement établis dans la région de Montréal, toutefois l'événement reste bien évidemment ouvert à des alumni établis dans d'autres régions ou pays.\n
BEGIN:VALARM
ACTION:DISPLAY
TRIGGER:-PT60M
DESCRIPTION:Conférences et réseautage au Québec, Canada
END:VALARM
END:VEVENT
END:VCALENDAR