BEGIN:VCALENDAR
VERSION:2.0
X-WR-TIMEZONE:Europe/Paris
PRODID:-//Audencia//NONSGML v1.0//EN
CALSCALE:GREGORIAN
BEGIN:VEVENT
SUMMARY:Cercle des Dirigeants - Deals en 2021 : le M&A adore les déséquilibres ! (mais il va falloir être ingénieux...)
DTSTART:20210204T180000
DTEND:20210204T193000
UID:869
DTSTAMP:20260425T205856
LOCATION:
DESCRIPTION:Chers membres ou futurs membres du Cercle des Dirigeants Audencia,\n \nNous vous souhaitons tout d’abord une très belle année 2021 (d’ores-et-déjà meilleure que 2020…) et vous adressons nos meilleurs vœux !\n \nPour vous proposer un premier événement de l’année, pour une fois virtuellement, nous avons le plaisir de vous donner rendez-vous le jeudi 4 février à 18h en visioconférence sur le thème de « Deals en 2021 : le M&A adore les déséquilibres ! (mais il va falloir être ingénieux...) » avec un panel 100% Audencia Alumni et 66,67% féminin qui nous donnera un éclairage pratique sur les secteurs porteurs dans le contexte actuel, les tendances du moment, et comment l’ingéniosité et la créativité se manifestent aussi en M&A…\n\n\n\nSophie Pourquéry (GE 94), Managing Partner du Fonds d’Investissement Bee Up Capital, Membre du Conseil d’Administration de France Invest\n\n \n\n\n\nStéphanie Pépineau (GE 07), Directrice Associée du Fonds d’Investissement UI Investissement\n \n \n \n\n\nDamien Vigneron (GE 12), Associé du cabinet de conseil en Fusion-Acquisition Sevenstones\n\n\n\nNous vous invitons à bloquer le jeudi 4 février à 18h (heure française).\n \nNous aurons le plaisir, exceptionnellement pour cet événement virtuel, d’accueillir l‘ensemble de nos diplômés intéressés par le sujet. Le lien de la visioconférence vous sera communiqué ultérieurement.\n \nAu plaisir de vous y retrouver,\n \nLe Cercle des Dirigeants\n \n \nAmbassadeurs du Cercles des Dirigeants d'Audencia\n\n\n\nSébastien Rouzaire (GE 91), Président Fondateur de Kerius Finance, société indépendante de conseil et service spécialisée en gestion et couverture des risques de change, taux d’intérêts et matières premières.\n \n\n\n\nPhilippe Serzec (GE 92), Partner PwC Transaction Services, département spécialisé en due diligence financière d’acquisition et de cession, en charge des ETI et PME patrimoniales et familiales, fonds de capital développement et LBO smallCap.\n \n \nLe Cercle des Dirigeants Audencia est une initiative d’Audencia Alumni, réseau des diplômés d’Audencia Nantes. L'objectif du Cercle est de rassembler les diplômés de plus de 15 ans d'expérience, occupant un poste de dirigeant ou de direction dans leur entreprise. Les réunions sont organisées chaque année autour de thèmes variés et d’une formule conférence/cocktail dans le but de partager des problématiques communes et développer le réseau relationnel professionnel entre diplômés Audencia.\n \nRejoindre Le Cercle des Dirigeants sur LinkedIn
BEGIN:VALARM
ACTION:DISPLAY
TRIGGER:-PT60M
DESCRIPTION:Cercle des Dirigeants - Deals en 2021 : le M&A adore les déséquilibres ! (mais il va falloir être ingénieux...)
END:VALARM
END:VEVENT
END:VCALENDAR