BEGIN:VCALENDAR
VERSION:2.0
X-WR-TIMEZONE:Europe/Paris
PRODID:-//Audencia//NONSGML v1.0//EN
CALSCALE:GREGORIAN
BEGIN:VEVENT
SUMMARY:Club Culture & Management - L'ingénierie culturelle à la française, un atout à l'export ?
DTSTART:20210120T190000
DTEND:20210120T200000
UID:867
DTSTAMP:20260425T205907
LOCATION:
DESCRIPTION:Nous vous attendons le mercredi 20 janvier pour notre premier débat de l'année sur la géopolitique de l'économie culturelle.\n\nJusqu’à la crise de la Covid19, le marché mondial de la construction de musées était en plein essor. La France demeurait encore en 2019 la première destination mondiale en matière de tourisme culturel. Une influence auprès des visiteurs étrangers entre autres garantie par les grands musées nationaux. De cette attractivité, des acteurs culturels français ont su capitaliser sur des savoir-faire en muséologie et stratégies muséales pour les exporter à l’international.\n\n \n\nOù en est l’initiative de structuration et de coordination de l’offre française d’ingénierie culturelle à l’international, en particulier au regard du nouveau contexte pandémique ? C'est la problématique que nous explorerons avec nos intervenants parmi lesquels :\n\n\n	\n	Agnès Alfandari, directrice du numérique de l'Institut Français\n	\n	\n	Agnès Saal, haute fonctionnaire à l'égalité, la diversité et la prévention des discriminations auprès du secrétaire général du ministère de la Culture, chargée d'une mission sur l'expertise culturelle internationale\n	\n	\n	Jean-François Charnier, directeur Culture et Patrimoine d'Afalula\n	\n\n\n \n\n> Plus d'informations et réservation\n\n\nModérateur :\n\n\n	\n	Pierre Reinisch\n	universcience/Responsable de Projets Export, Secrétaire Général c&m\n	\n\n\n \n\nMODALITÉS PRATIQUES :\n\n\n	\n	Le webinaire démarre à 19h\n	\n	\n	Après inscription, vous recevrez un lien Zoom pour vous connecter au webinaire\n	\n	\n	Il y aura un temps pour poser des questions aux intervenants après le débat\n	\n	\n	Tarif unique à 10€\n	\n\n\n \n\n \n\n \n\nAu plaisir de vous retrouver en ligne,\n\nL'équipe du Club Culture & Management\n\n \n\n\n
BEGIN:VALARM
ACTION:DISPLAY
TRIGGER:-PT60M
DESCRIPTION:Club Culture & Management - L'ingénierie culturelle à la française, un atout à l'export ?
END:VALARM
END:VEVENT
END:VCALENDAR