BEGIN:VCALENDAR
VERSION:2.0
X-WR-TIMEZONE:Europe/Paris
PRODID:-//Audencia//NONSGML v1.0//EN
CALSCALE:GREGORIAN
BEGIN:VEVENT
SUMMARY:Club Marketing & Digital - Masterclass - Contenus éditoriaux et Inbound marketing
DTSTART:20210209T180000
DTEND:20210209T193000
UID:866
DTSTAMP:20260425T205908
LOCATION:
DESCRIPTION:Quelles perspectives, quels enjeux pour la stratégie de contenu en 2021 ? \n\n \nLe contenu était roi, voilà qu’il devient bruit. La faute à Google ? Au marketing devenu outrageusement commercial ? D’aucuns annoncent même la mort de l’inbound marketing, accusant le contenu de contribuer à la pollution des messages, à la dégradation de la relation avec nos communautés. Et à la faible rentabilité du marketing de contenu « organique ». \n \nMuriel Vandermeulen nous propose de nous montrer comment, au contraire, la stratégie de contenu contribue à servir des contrats de marque utiles, attrayants, pérennes — pour ne pas dire « durables » (au risque d’être taxés de greenwashing). \n \nNous ferons d’ailleurs un détour du côté du concept de marketing implicatif, proposé par Florence Touzé, et verrons comment l’appliquer au marketing de contenu, en particulier. \n \nEt la rentabilité du contenu, alors, direz-vous ? Nous en parlerons également. Elle nous partagera les méthodes clés pour concevoir, mesurer et améliorer votre message à travers une amélioration et une évaluation continues de votre stratégie de contenu. \n \nAu programme ? \n\n\n	\n	Contenu et Marketing, un couple heureux ? \n	\n	\n	Stratégie de contenu : quid de l’expérience client et de la Youtility de la marque ? \n	\n	\n	Stratégie discursive et inbound marketing : oser un modèle implicatif pour performer la marque.\n	\n\n\n \nFondatrice de l’agence Wearethewords, agence spécialisée en stratégie et marketing de contenu, fondée il y a 20 ans, Muriel Vandermeulen prône un contenu utile, un contenu service, à la fois attrayant et pérenne. Muriel intervient régulièrement auprès d’associations professionnelles de marketing, d’incubateurs de startups et dans les hautes écoles.\n\nElle a fondé le blog Ecrirepourleweb.com en 2006 et, en 2014, le webzine Ellesfontduvelo.com, 1e média francophone sur la communauté vélo au féminin, puis son eshop en 2018. Enfin, Muriel a écrit le premier ouvrage en français sur la stratégie de contenu, qui sera réédité en 2021.\n \n\nInterview par :\n\n\n\nBrigitte Neveu-Dérotrie (GE 85), co-animatrice du Club Marketing & Digital, fondatrice de Yélen communication (Conseil & formations réseaux sociaux B2B, Digital branding & communication d'entreprise),\n\n\n\n\navec le soutien de la Junior Entreprise Audencia Alumni et de son président Alexandre Selhuber.\n\n\n \n \n\n➡️ Le lien de Zoom : https://us02web.zoom.us/j/84752271315 ⬅️\n\n✍? Questions : nushad.merchant@audencia.com ✍?\n\n 
BEGIN:VALARM
ACTION:DISPLAY
TRIGGER:-PT60M
DESCRIPTION:Club Marketing & Digital - Masterclass - Contenus éditoriaux et Inbound marketing
END:VALARM
END:VEVENT
END:VCALENDAR