BEGIN:VCALENDAR
VERSION:2.0
X-WR-TIMEZONE:Europe/Paris
PRODID:-//Audencia//NONSGML v1.0//EN
CALSCALE:GREGORIAN
BEGIN:VEVENT
SUMMARY:Alumni activities in China
DTSTART:20210114T144500
DTEND:20210115T235000
UID:865
DTSTAMP:20260425T210114
LOCATION:
DESCRIPTION:\n	\n		\n			\n			\n				\n					\n						\n						\n							\n								\n									We are very pleased to introduce your ambassadors. Audencia is always looking out for volunteers to take on the role of alumni ambassador. If you have some great plans for alumni in your city and are interested in knowing more about how to become an ambassador, please contact the alumni team (audenciaalumni@audencia.com).\n									\n									In the meantime, please scroll down to the photo gallery at the bottom of the page to view some of the amazing activities that have taken place in China!\n									 \n								\n							\n						\n						\n					\n				\n			\n\n			\n				\n					\n						\n						\n							\n								\n									BEIJING:\n								\n							\n						\n						\n					\n				\n			\n			 \n\n			\n				\n					\n						\n						\n							\n								\n									\n									\n										\n											\n												\n												\n													\n														\n															\n															\n																\n																	\n																		\n																		\n																			\n																				\n																					\n																				\n																			\n																		\n																		\n																	\n																\n															\n															\n														\n													\n												\n												\n												\n												\n													\n														\n															\n															\n																\n																	\n																		Name: Jing TIAN\n																		Year of graduation: 2017\n																		Programme studied: MBA\n																		Currently: Market Analyst @ Caterpillar\n																		Experience: Market Strategy / Industry Research / Wind Energy / Agriculture / Consulting\n																		\n																		"It's my great pleasure to be the alumni ambassador of our Beijing community. Let's have fun together!"\n																	\n																\n															\n															\n														\n													\n												\n												\n											\n										\n									\n									\n								\n							\n						\n						\n					\n				\n			\n			 \n\n			\n				\n					\n						\n						\n							\n								\n									\n									\n										\n											\n												\n												\n													\n														\n															\n															\n																\n																	\n																		\n																		\n																			\n																				\n																					\n																				\n																			\n																		\n																		\n																	\n																\n															\n															\n														\n													\n												\n												\n												\n												\n													\n														\n															\n															\n																\n																	\n																		Name: Ying FU (Sophie)\n																		Year of graduation: 2018\n																		Programme studied: IMM\n																		Currently: Business Developer @ Business France\n																		Experience: Marketing / Communication / Consulting\n																		\n																		"Audencia and its strong network of Alumni helped me step into the professional world. I hope we can get more connected across various activities and empower our Alumni community."\n																	\n																\n															\n															\n														\n													\n												\n												\n											\n										\n									\n									\n								\n							\n						\n						\n					\n				\n			\n			 \n\n			\n				\n					\n						\n						\n							\n								\n									SHANGHAI:\n								\n							\n						\n						\n					\n				\n			\n			 \n\n			\n				\n					\n						\n						\n							\n								\n									\n									\n										\n											\n												\n												\n													\n														\n															\n															\n																\n																	\n																		\n																		\n																			\n																				\n																					\n																				\n																			\n																		\n																		\n																	\n																\n															\n															\n														\n													\n												\n												\n												\n												\n													\n														\n															\n															\n																\n																	\n																		Name: Dai YAO (Delphine)\n																		Year of graduation: 2012\n																		Programme studied: GE\n																		Currently: Corporate Relations & Chinese Business Director @ CCI France Chine\n																		Experience: Marketing / International Trade / Business Development / Relationship Management\n																		\n																		"Together to create a stronger network."\n																	\n																\n															\n															\n														\n													\n												\n												\n											\n										\n									\n									\n								\n							\n						\n						\n					\n				\n			\n			 \n\n			\n				\n					\n						\n						\n							\n								\n									\n									\n										\n											\n												\n												\n													\n														\n															\n															\n																\n																	\n																		\n																		\n																			\n																				\n																					\n																				\n																			\n																		\n																		\n																	\n																\n															\n															\n														\n													\n												\n												\n												\n												\n													\n														\n															\n															\n																\n																	\n																		Name: Yingmei JIANG (Katherine)\n																		Year of graduation: 2015\n																		Programme studied: IMM\n																		Currently: Manager @ PwC Digital (on board soon)\n																		Experience: Digital Transformation / Innovation / Consulting / Project Management / Automotive / Financial Services\n																		\n																		"Enhancing the awareness and competency of Audencia Alumni in multi-cultural environment would be my priority. Let's promote our Audencia pride together!"\n																	\n																\n															\n															\n														\n													\n												\n												\n											\n										\n									\n									\n								\n							\n						\n						\n					\n				\n			\n			 \n\n			\n				\n					\n						\n						\n							\n								\n									SHENZHEN:\n								\n							\n						\n						\n					\n				\n			\n			 \n\n			\n				\n					\n						\n						\n							\n								\n									\n									\n										\n											\n												\n												\n													\n														\n															\n															\n																\n																	\n																		\n																		\n																			\n																				\n																					\n																				\n																			\n																		\n																		\n																	\n																\n															\n															\n														\n													\n												\n												\n												\n												\n													\n														\n															\n															\n																\n																	\n																		Name: Qing SUN (Suki)\n																		Year of graduation: 2018\n																		Programme studied: IMM\n																		Currently: Junior Project Manager @ Country Garden\n																		Experience: SPIREN Ventures / Elephant Robotics / Savills / Digital Marketing / Project Management / Real Estate\n																		\n																		"Join us on "Together" and welcome to Shenzhen!"\n																	\n																\n															\n															\n														\n													\n												\n												\n											\n										\n									\n									\n								\n							\n						\n						\n					\n				\n			\n			 \n\n			\n				\n					\n						\n						\n							\n								\n									\n									\n										\n											\n												\n												\n													\n														\n															\n															\n																\n																	\n																		\n																		\n																			\n																				\n																					\n																				\n																			\n																		\n																		\n																	\n																\n															\n															\n														\n													\n												\n												\n												\n												\n													\n														\n															\n															\n																\n																	\n																		Name: Yulin LI (Derek)\n																		Year of graduation: 2019\n																		Programme studied: MBA\n																		Currently: Freelancer\n																		Experience: Product Strategy / Management / GTM in ICT Fields\n																		\n																		"This is Derek. I am an old Boy."\n																	\n																\n															\n															\n														\n													\n												\n												\n											\n										\n									\n									\n								\n							\n						\n						\n					\n				\n			\n			 \n\n			\n				\n					\n						\n						\n							\n								\n									CHENGDU:\n								\n							\n						\n						\n					\n				\n			\n			 \n\n			\n				\n					\n						\n						\n							\n								\n									\n									\n										\n											\n												\n												\n													\n														\n															\n															\n																\n																	\n																		\n																		\n																			\n																				\n																					\n																				\n																			\n																		\n																		\n																	\n																\n															\n															\n														\n													\n												\n												\n												\n												\n													\n														\n															\n															\n																\n																	\n																		Name: Yu GONG (Nick)\n																		Year of graduation: 2018\n																		Programme studied: DBA\n																		Currently: General Manager @ Sichuan Seven Dimensional Culture Tourism Co., Ltd.\n																		Experience: Tourism / Hotel Management / Hospitality Industry / Investment / Visiting Professor / MBA Tutor\n																		\n																		"If people frame themselves in a certain range, it is easy to limit their thinking pattern. The value of life lies in exploring the unknown and summarizing thoughts. I wish to be a bond of friendship between China and France."  \n																	\n																\n															\n															\n														\n													\n												\n												\n											\n										\n									\n									\n								\n							\n						\n						\n					\n				\n			\n			 \n\n			\n				\n					\n						\n						\n							\n								\n									HONG KONG:\n								\n							\n						\n						\n					\n				\n			\n			 \n\n			\n				\n					\n						\n						\n							\n								\n									\n									\n										\n											\n												\n												\n													\n														\n															\n															\n																\n																	\n																		\n																		\n																			\n																				\n																					\n																				\n																			\n																		\n																		\n																	\n																\n															\n															\n														\n													\n												\n												\n												\n												\n													\n														\n															\n															\n																\n																	\n																		Name: Emma CARDON\n																		Year of graduation: 2016\n																		Programme studied: GE\n																		Currently: APAC Supply Chain Analyst @ NAOS\n																		Experience: Supply Chain / Sourcing / Business Analysis / Retail industry \n																		\n																		"Proud to become Ambassador of Audencia Alumni in Hong Kong, the city I felt in love a few years ago. Feel free to contact me for a chat, a lunch or a drink, I'd always be happy to help!"\n																	\n																\n															\n															\n														\n													\n												\n												\n											\n										\n									\n									\n								\n							\n						\n						\n					\n				\n			\n			  \n\n			\n				\n					\n						\n						\n							\n								\n									As a reminder, your ambassadors will be concerned about :\n									\n										create and maintain the link between you through events and activities,\n										bring up your needs/desires with the alumni team at Audencia,\n										federate you on your class anniversaries, answer your questions\n									\n									\n								\n							\n						\n						\n					\n				\n			\n			  \n		\n	\n
BEGIN:VALARM
ACTION:DISPLAY
TRIGGER:-PT60M
DESCRIPTION:Alumni activities in China
END:VALARM
END:VEVENT
END:VCALENDAR