BEGIN:VCALENDAR
VERSION:2.0
X-WR-TIMEZONE:Europe/Paris
PRODID:-//Audencia//NONSGML v1.0//EN
CALSCALE:GREGORIAN
BEGIN:VEVENT
SUMMARY:Ambassadors meeting - January 28th - English
DTSTART:20210128T130000
DTEND:20210128T143000
UID:864
DTSTAMP:20260425T210206
LOCATION:
DESCRIPTION:An appointment that you can't miss!\n\n- Reserved for Alumni Ambassadors -\n\n\n\n\nDear Ambassadors,\nCome and join us at this event that is dedicated to you! Take a break, spend some time with our alumni and Dr. Christophe Germain, Dean of Audencia.\n\nOn the agenda:\n\n\n	Discussions with Christophe Germain, Dean of Audencia. He will share with you the latest news and ambitions of your school, including the strategic plan, \n	A few words from Flavie Lorre, President of the Audencia Alumni association,\n	A time to express your opinion, your ideas and co-construct the evolutions of your network,\n	...All in a fun and friendly atmosphere.\n\n\nHow to participate?\n\n\n	Log in and register in advance. Only the ambassadors have access to registration.\n	A Teams link will be emailed to all registered participants a few days beforehand. \n	For your information, a session in French is scheduled on January 26th at 19:00\n\n\n\nQuestions? \nDon't hesitate to contact us at audenciaalumni@audencia.com 
BEGIN:VALARM
ACTION:DISPLAY
TRIGGER:-PT60M
DESCRIPTION:Ambassadors meeting - January 28th - English
END:VALARM
END:VEVENT
END:VCALENDAR