BEGIN:VCALENDAR
VERSION:2.0
X-WR-TIMEZONE:Europe/Paris
PRODID:-//Audencia//NONSGML v1.0//EN
CALSCALE:GREGORIAN
BEGIN:VEVENT
SUMMARY:Club Marketing & Digital - SEO en 2021 - Les grandes tendances à venir et les défis du référencement naturel
DTSTART:20210119T180000
DTEND:20210119T193000
UID:863
DTSTAMP:20260425T205817
LOCATION:
DESCRIPTION:Masterclass Expert - Yann Sauvageon (GE 02)\n\n \nSEO en 2021 - Les grandes tendances à venir et les défis du référencement naturel \n \nSi vous êtes professionnels de la communication, du marketing, ou entrepreneurs, ne manquez pas cet événement du Club Marketing & Digital.\n\n\nYann Sauvageon, expert digital et conférencier en marketing digital, a un talent unique pour détecter et partager les innovations et tendances à connaître dans son domaine.\n \nDurant cette session, Yann nous présentera les dernières tendances et défis à prendre en compte en matière de référencement naturel (SEO – Search Engine Optimisation), notamment : \n\n\n	\n	les fondamentaux qui sont toujours d’actualité en 2021, \n	\n	\n	l’évolution de Google vers une logique sémantique de plus en plus intelligente (BERT), \n	\n	\n	l’IA au cœur de l’algorithme, \n	\n	\n	la montée inexorable des rich snippets, \n	\n	\n	l’intégration de l’UX dans les critères SEO (EAT, Core Web Vitals), \n	\n	\n	et l’arrivée du V-Search (Voice & Visual).\n	\n\n\n \nFondateur de l'agence de marketing digital IKOVA, Yann conseille et forme les équipes digitales et marketing de grands comptes ainsi que les directions de PME. Ses expertises : Pilotage de canaux digitaux, Search Marketing (SEO-SEA), Web Analytics, démarche CRO (Conversion Rate Optimisation) et prospective digitale.\n \nSa mission est de faire grandir la performance digitale des entreprises en mixant expertise marketing et technique, et de rendre compréhensible son métier, vulgarisant la technique, transmettant les bonnes pratiques, et détectant les dernières tendances.\n \nIl est lauréat 2017 de la meilleure campagne digitale multicanal (SMX Paris 2017), interviens à Audencia pour le Mastère Spécialisé Stratégies Marketing à l’Ère Digitale (MS SMED) et dans des conférences partout en France.\n \n\nInterview par :\n\n\nBrigitte Neveu-Dérotrie (GE 85), co-animatrice du Club Marketing & Digital, fondatrice de Yélen communication (Conseil & formations réseaux sociaux B2B, Digital branding & communication d'entreprise),\n\n\n\navec le soutien de la Junior Entreprise Audencia Alumni et de son président Alexandre Selhuber.\n\n\n \n➡️ Les inscriptions sont obligatoires pour l'envoi du lien Zoom ⬅️\n\n✍? Questions : nushad.merchant@audencia.com ✍?\n\n \n\n\nSAVE THE DATE :\nProchaine Masterclass le 9 février\nStratégie de contenu et Inbound marketing avec Muriel Vandermeulen,\nfondatrice de l’agence bruxelloise wearethewords
BEGIN:VALARM
ACTION:DISPLAY
TRIGGER:-PT60M
DESCRIPTION:Club Marketing & Digital - SEO en 2021 - Les grandes tendances à venir et les défis du référencement naturel
END:VALARM
END:VEVENT
END:VCALENDAR