BEGIN:VCALENDAR
VERSION:2.0
X-WR-TIMEZONE:Europe/Paris
PRODID:-//Audencia//NONSGML v1.0//EN
CALSCALE:GREGORIAN
BEGIN:VEVENT
SUMMARY:Séminaire Ambassadeurs - 26 janv. - en français
DTSTART:20210126T190000
DTEND:20210126T203000
UID:862
DTSTAMP:20260425T223840
LOCATION:
DESCRIPTION:\nUn rendez-vous à ne manquer sous aucun prétexte !\n\n- réservé aux Ambassadeurs Alumni -\n\n\n\n\nVenez vous retrouver, chers Ambassadeurs, lors de cet événement qui vous est dédié. Echappez-vous quelques instants pour vivre une rencontre virtuelle entre alumni et avec le Directeur Général d’Audencia, Christophe Germain.\n\n\nAu programme :\n\n\n	 Echanges avec Christophe Germain, Directeur Général d’Audencia, qui vous partagera les dernières actualités et ambition de l’Ecole, notamment le plan stratégique.\n	Prise de parole de Flavie Lorre, Présidente de l’association Audencia Alumni.\n	Un temps pour exprimer votre avis, vos idées et co-construire les évolutions de votre Réseau.\n	...le tout dans une ambiance fun et conviviale.\n\n\nComment participer ?\n\n\n	Inscrivez-vous en vous identifiant au préalable. Seuls les Ambassadeurs ont accès à l'inscription.\n	Un lien Teams sera envoyé par e-mail aux inscrits quelques jours avant.\n	Pour info, une session en anglais est également prévue le 28 janvier à 13h\n\n\n\nUne question ?\nN’hésitez pas à nous contacter sur audenciaalumni@audencia.com.\n \n\nRejoignez-nous via Microsoft Teams en cliquant ici
BEGIN:VALARM
ACTION:DISPLAY
TRIGGER:-PT60M
DESCRIPTION:Séminaire Ambassadeurs - 26 janv. - en français
END:VALARM
END:VEVENT
END:VCALENDAR