BEGIN:VCALENDAR
VERSION:2.0
X-WR-TIMEZONE:Europe/Paris
PRODID:-//Audencia//NONSGML v1.0//EN
CALSCALE:GREGORIAN
BEGIN:VEVENT
SUMMARY:Webinar : La magie du recrutement scientifique
DTSTART:20210121T190000
DTEND:20210121T200000
UID:861
DTSTAMP:20260425T210010
LOCATION:
DESCRIPTION:Un webinar animé par Emile Pennes, Directeur Général de GetPro, cabinet de recrutement spécialisé dans la tech.\n\nRecruter est un tour de magie. \n\nEn quête de talents, le dirigeant d'entreprise a entre ses mains de nombreuses cartes.\nComment peut-il s’assurer de piocher la bonne ? Celle qui lui permettra de faire grandir son entreprise ? \n \nRecruter est un tour de magie. Et comme tous les tours de magie, il y a un « truc ». \n \nPour tomber juste à tous les coups, nous vous dévoilons les secrets du tour. Mais surtout, s’il vous plaît, gardez-le pour vous !\n \nLa clé d’un recrutement réussi, c’est d’adopter une approche méthodique et scientifique. De s’appuyer sur les conclusions étayées des plus grands chercheurs en sciences cognitives dans le domaine du recrutement.\n \nNous vous proposons de découvrir aujourd’hui comment les dernières avancées en psychométrie peuvent vous aider à améliorer significativement vos recrutements.\n\nAlors attrapez votre baguette magique. C’est parti !\n\n 
BEGIN:VALARM
ACTION:DISPLAY
TRIGGER:-PT60M
DESCRIPTION:Webinar : La magie du recrutement scientifique
END:VALARM
END:VEVENT
END:VCALENDAR