BEGIN:VCALENDAR
VERSION:2.0
X-WR-TIMEZONE:Europe/Paris
PRODID:-//Audencia//NONSGML v1.0//EN
CALSCALE:GREGORIAN
BEGIN:VEVENT
SUMMARY:Coffee workshop in San Francisco, USA
DTSTART:20201219T233000
DTEND:20201219T235900
UID:857
DTSTAMP:20260425T210002
LOCATION:
DESCRIPTION:Time for a virtual coffee class!\nGet your coffee-making equipment ready and let's have fun together (family welcome) with an online coffee workshop. Hosted by a barista in the San Francisco Bay Area, your workshp will include:\n \n\n	how to make coffee with a French press and compare with the other methods\n	what to learn about coffee sourcing with characteristics similar to wine\n	how to taste\n\n\nbut not only..., and of course fun together!\n \nSaturday 19 December\n\nfrom 2:30pm (PST/San Francisco time)\n \n\n15 places available!\nRegister here on Together\nso that Lucie can send you the link \nto the workshop on the day\n\n
BEGIN:VALARM
ACTION:DISPLAY
TRIGGER:-PT60M
DESCRIPTION:Coffee workshop in San Francisco, USA
END:VALARM
END:VEVENT
END:VCALENDAR