BEGIN:VCALENDAR
VERSION:2.0
X-WR-TIMEZONE:Europe/Paris
PRODID:-//Audencia//NONSGML v1.0//EN
CALSCALE:GREGORIAN
BEGIN:VEVENT
SUMMARY:Ski Trip in Beijing, China
DTSTART:20201228T080000
DTEND:20201228T200000
UID:855
DTSTAMP:20260425T223651
LOCATION:Beijing Nanshan Ski Resort
DESCRIPTION:Location: Beijing Nanshan Ski Resort \nDate: Dec 28th, 2020 (Monday) \nTime: Around 8:00 am Beijing Time (Details to be communicated) \nPrice: 33 RMB (Transportation) + 195 RMB (Skiing Ticket, including equipment and cable car) \nNote: A 300 RMB deposit is needed for skiing equipment \n\nTo register, please add TIAN Jing by scanning the QR code below. \n\n
BEGIN:VALARM
ACTION:DISPLAY
TRIGGER:-PT60M
DESCRIPTION:Ski Trip in Beijing, China
END:VALARM
END:VEVENT
END:VCALENDAR