BEGIN:VCALENDAR
VERSION:2.0
X-WR-TIMEZONE:Europe/Paris
PRODID:-//Audencia//NONSGML v1.0//EN
CALSCALE:GREGORIAN
BEGIN:VEVENT
SUMMARY:Café Français - en ligne
DTSTART:20210107T161500
DTEND:20210107T171500
UID:854
DTSTAMP:20260425T210022
LOCATION:
DESCRIPTION:Chères diplômées, chers diplômés,\n\nNous vous proposons ce Café Français, un échange dans une ambiance détendue et compagnie de nos étudiants MBA internationaux.\nL'idée est de converser en français sur des sujets divers et variés. \nFrancophone, vous avez envie de les aider à améliorer et à pratiquer leur français en créant du lien?\nVotre langue maternelle n'est pas le français et vous voyez ici l'opportunité de pratiquer avec des étudiants et des alumni de votre réseau?\n\nVous êtes au bon endroit!\n\nRejoignez nous le 7 janvier à 16h15, pour une heure de discussion.\n \nLe thème du jour sera :\n"Les passions de chacun"\n \nVous êtes passionné par quelque chose, un sport, un pays, un groupe de musique, etc... \nAlors venez partager et découvrir ce qui anime les individus de la communauté Audencia!\n\nMerci de vous inscrire.\nUn lien TEAMS vous sera transmis par mail un jour avant le Café, le 6 janvier.\n\nL'équipe Audencia Alumni\n\n 
BEGIN:VALARM
ACTION:DISPLAY
TRIGGER:-PT60M
DESCRIPTION:Café Français - en ligne
END:VALARM
END:VEVENT
END:VCALENDAR