BEGIN:VCALENDAR
VERSION:2.0
X-WR-TIMEZONE:Europe/Paris
PRODID:-//Audencia//NONSGML v1.0//EN
CALSCALE:GREGORIAN
BEGIN:VEVENT
SUMMARY:Webinar : Présentation de l'incubateur Centrale - Audencia - Ensa
DTSTART:20201216T183000
DTEND:20260425T205850
UID:853
DTSTAMP:20260425T205850
LOCATION:
DESCRIPTION:\nVous avez un projet entrepreneurial innovant ? Rejoignez la nouvelle promotion de l'incubateur !\nL’incubateur Centrale - Audencia - Ensa recherche sa prochaine promotion pour son programme qui débutera fin février.\nVous souhaitez en savoir plus ? Participez au webinaire de présentation de l’incubateur avec un retour d’expérience de startups accompagnées, le 16 décembre à 18h30.\n \n>> Inscrivez-vous ICI
BEGIN:VALARM
ACTION:DISPLAY
TRIGGER:-PT60M
DESCRIPTION:Webinar : Présentation de l'incubateur Centrale - Audencia - Ensa
END:VALARM
END:VEVENT
END:VCALENDAR