BEGIN:VCALENDAR
VERSION:2.0
X-WR-TIMEZONE:Europe/Paris
PRODID:-//Audencia//NONSGML v1.0//EN
CALSCALE:GREGORIAN
BEGIN:VEVENT
SUMMARY:Webinar: Nine habits for the new world of work
DTSTART:20210414T130000
DTEND:20210414T140000
UID:852
DTSTAMP:20260425T205853
LOCATION:
DESCRIPTION:Nine habits for the new world of work\n\nDate: 14 April 2021\nTime: 13:00 – 14:00 Paris time\n\nThe past year has been of seismic and irrevocable change. Instead of sleepwalking back into our old habits pre-pandemic, it’s a critical time for leaders to make decisions about the future world of work.\n\nDr John Blakey will explore:\n\n	How will productivity be impacted in the new normal?\n	How can MBA leaders embrace the opportunity to change?\n	What will the world of work look like in the future, post-Covid-19?\n	How can the Nine Habits of Trust model help leaders adapt to the new reality?\n\nDr John Blakey has listened to how business leaders from all over the world are emerging from the pandemic experience to develop new habits and see with new eyes. He believes we cannot let a good crisis go to waste. We must justify the global losses to life and lives through creating a new world of work – one that optimises the needs of all stakeholders, including the planet. We must seize the opportunity to accelerate the transition from the industrial age to the social age.\n\nThe currency of leadership in the industrial age was power. The pandemic has allowed us to glimpse a new possibility – the exciting possibility that, in the social age, the currency of leadership is trust. A change of leadership currency requires us to unlearn the habits of power and master the habits of trust. If you have the appetite for the new game of trust then the Nine Habits model provides you with a roadmap and compass for the journey ahead. Armed with a bold vision and a reliable compass, we can renew our license to lead and step forward with motivation and confidence. Whatever the field of your leadership, we should let go of trusting in power and take hold of the power of trust.\n\nIdeally, prior to attending the webinar, attendees should watch this four-minute video to give background/context to the Nine Habits of Trust model – https://youtu.be/ahuKC3hOX-A\n\nAbout the speaker\nJohn Blakey is author of The Trusted Executive and Founder of The Trusted Executive Foundation, and works as an executive coach and board adviser with CEOs and elite sport coaches around the globe. The Trusted Executive Foundation is a not-for-profit organisation that specialises in helping leaders build purpose-led, high performance cultures built on the values of trust and challenge. \nHis many clients have included Shell, Unilever and Investec Bank. John’s business experience also includes time as a Fast Track 100 entrepreneur, FTSE 100 International Managing Director and Chair/Director of a number of voluntary organisations. He was also named as one of the top thought leaders on organisational trust at the Trust Across America awards in 2016. He holds a Doctor of Business Administration (DBA) from Aston Business School.\n\n \n\nTo join the webinar\nREGISTER HERE\n \n\nDid you graduate from an AMBA-accredited programme at Audencia?\nThis webinar is accessible to students or alumni of an AMBA-accredited programme at Audencia, i.e., Executive MBA, EuroMBA, Full-Time MBA or Master in Management (Grande Ecole Programme), but registration is required. Registering as an alum of an AMBA-accredited programme takes only a few minutes.\nThis event is free for AMBA members to attend but registration is required using the link above.
BEGIN:VALARM
ACTION:DISPLAY
TRIGGER:-PT60M
DESCRIPTION:Webinar: Nine habits for the new world of work
END:VALARM
END:VEVENT
END:VCALENDAR