BEGIN:VCALENDAR
VERSION:2.0
X-WR-TIMEZONE:Europe/Paris
PRODID:-//Audencia//NONSGML v1.0//EN
CALSCALE:GREGORIAN
BEGIN:VEVENT
SUMMARY:Webinar: Forever employable - how to ensure your career stays as agile as your work
DTSTART:20210303T130000
DTEND:20210303T140000
UID:850
DTSTAMP:20260425T210205
LOCATION:
DESCRIPTION:Forever employable: how to ensure your career stays as agile as your work\n\nDate: 3 March 2021\nTime: 13:00-14:00 Paris time\n\nIt’s never been more important for leaders to be agile and adaptable in terms of their skills and approach to work.\nDuring this interactive webinar, author and employment expert Jeff Gothelf will discuss ways to apply the principles of continuous learning, improvement, experimentation and agility to professional development and career growth.\nJeff will share his experience of building a thought leadership platform and his own consulting practice. He will draw on his new book Forever Employable, as well as providing tools and techniques to help you think through how to ensure that no matter what changes are in your world you’re always confident about the next professional step. \nAbout the speaker\nJeff Gothelf helps organisations build better products and executives build the cultures that build better products. He is the co-author of the award-winning book Lean UX and the Harvard Business Review Press book Sense & Respond. Starting off as a software designer, Jeff now works as a coach, consultant and keynote speaker helping companies bridge the gaps between business agility, digital transformation, product management and human-centred design. Most recently Jeff co-founded Sense & Respond Press, a publishing house for practical business books for busy executives. His new book, Forever Employable, was published in June 2020. \n \n\n \n\nTo join the webinar\nREGISTER HERE\n \n\nDid you graduate from an AMBA-accredited programme at Audencia?\nThis webinar is accessible to students or alumni of an AMBA-accredited programme at Audencia, i.e., Executive MBA, EuroMBA, Full-Time MBA or Master in Management (Grande Ecole Programme), but registration is required. Registering as an alum of an AMBA-accredited programme takes only a few minutes.\nThis event is free for AMBA members to attend but registration is required using the link above.
BEGIN:VALARM
ACTION:DISPLAY
TRIGGER:-PT60M
DESCRIPTION:Webinar: Forever employable - how to ensure your career stays as agile as your work
END:VALARM
END:VEVENT
END:VCALENDAR