BEGIN:VCALENDAR
VERSION:2.0
X-WR-TIMEZONE:Europe/Paris
PRODID:-//Audencia//NONSGML v1.0//EN
CALSCALE:GREGORIAN
BEGIN:VEVENT
SUMMARY:Parcours Carrière Jeunes Diplômés - 27 octobre et 10 novembre (2 jours) : Définir et déployer son projet
DTSTART:20171027T090000
DTEND:20171110T173000
UID:85
DTSTAMP:20260425T223839
LOCATION:95 rue Falguière 75015 PARIS
DESCRIPTION:Un parcours ciblé en 2 temps pour les Jeunes Diplômés (moins de 3 ans d'expérience professionnelle) \n \nCe parcours est pour toi si : \n- Tu souhaites rejoindre la dynamique d’un groupe pour construire ton projet, renforcer tes talents et ta confiance \n- Tu es à la recherche de ton premier job / second job \n- Tu souhaites obtenir des conseils pour piloter ta carrière professionnelle\n \n\nDéfinir son projet \n\n1. Mieux se connaître pour avancer dans son projet \n2. Mieux connaître ses motivations pour décider de ses choix professionnels \n3. S'engager dans un plan d'action\n \nOutils & Méthodes : \nAtelier interactif en groupe de 6 à 12 personnes\nInventaire d'intérêts professionnels STRONG® (motivations) \n \nDéployer son projet\n\n1. Apprendre à bien communiquer : CV Pitch (réussir à bien se présenter en quelques minutes), profil Linked In, stratégie réseau... \n2. Se préparer aux entretiens & réussir en short-list : simulation d’entretien, négociation salariale, questions piège ...\n \nOutils & Méthode : \nAtelier interactif en groupe de 6 à 12 personnes \nDes simulations entretiens / vidéos\nDes feedbacks du groupe\nL'avis des spécialistes du recrutement\n\nAu programme : réflexion sur soi appuyée sur des tests reconnus (MBTI, STRONG), identification des compétences, ajustement du projet puis déploiement et confrontation avec un professionnel du recrutement. La méthode de travail a fait ses preuves et alterne travail en groupe, en individuel et entretien. \n\n \nINSCRIPTION A LA CARTE \n\nJour 1 - 27 octobre 2017 : Définir son projet \nJour 2 - 10 novembre 2017 : Déployer son projet \n 
BEGIN:VALARM
ACTION:DISPLAY
TRIGGER:-PT60M
DESCRIPTION:Parcours Carrière Jeunes Diplômés - 27 octobre et 10 novembre (2 jours) : Définir et déployer son projet
END:VALARM
END:VEVENT
END:VCALENDAR