BEGIN:VCALENDAR
VERSION:2.0
X-WR-TIMEZONE:Europe/Paris
PRODID:-//Audencia//NONSGML v1.0//EN
CALSCALE:GREGORIAN
BEGIN:VEVENT
SUMMARY:Webinar: The business of getting business - why organisations must go digital and how to do so
DTSTART:20210218T130000
DTEND:20210218T140000
UID:849
DTSTAMP:20260425T205901
LOCATION:
DESCRIPTION:The business of getting business: why organisations must go digital and how to do so\n\nDate: 18 February 2021\nTime: 13:00-14:00 Paris time\n\nIn the past, new competition entering your market area was normal. Somebody would come in and do what you do – and you knew what it took to compete with them.\nBut there is a far more dangerous threat that is growing for all businesses: digital marketers.  \nThese organisations have no intention of servicing the consumer; rather, they are formed to take advantage of the lack of digital marketing skills in industries that have not embraced this recent change.  \nThese digital marketers can generate customer leads and then, in turn, sell them to local business owners who then convert them to consumers of their products or services. \nIn this session, Joe Manusa will draw on insights from his book to help explain and demonstrate how digital marketing can be used to its best ability and transform old thinking into a new innovative one. \nAbout the speaker\nJoe Manausa wrote the book on how to implement a digital marketing plan for businesses. As a recognised name for digital marketing in real estate, Joe uses his near 30 years of real estate experience to attract the clients that his company helps move to, from, and within Tallahassee, Florida.  \nJoe is a Tallahassee native was appointed to the United States Military Academy at West Point, where he earned his bachelor’s degree in computer science and military science. he has since earned his master’s degree in business administration.\nJoe served in the US Army as an airborne, ranger, infantry officer. He led a platoon of 40 soldiers in the Republic of Panama during Operation Just Cause and was awarded his Combat Infantryman’s badge. \nJoe has been in Real Estate for nearly 30 years. His companies have always performed at the top of the market and have won franchise awards with both RE/MAX and Century 21, making a name for the office as one of the best home selling companies in the state of Florida. \nJoe started the transition from traditional marketing to digital marketing in 2007 when he started his first blog. There really were no resources out there to guide him, so he just started producing content to see where it would go. Thirteen years later, Joe will tell you that the entire way that his company conducts business has changed, and much of it has to do with how digital marketing has evolved its relationships with customers. \n\n \n\nTo join the webinar\nREGISTER HERE\n \n\nDid you graduate from an AMBA-accredited programme at Audencia?\nThis webinar is accessible to students or alumni of an AMBA-accredited programme at Audencia, i.e., Executive MBA, EuroMBA, Full-Time MBA or Master in Management (Grande Ecole Programme), but registration is required. Registering as an alum of an AMBA-accredited programme takes only a few minutes.\nThis event is free for AMBA members to attend but registration is required using the link above.
BEGIN:VALARM
ACTION:DISPLAY
TRIGGER:-PT60M
DESCRIPTION:Webinar: The business of getting business - why organisations must go digital and how to do so
END:VALARM
END:VEVENT
END:VCALENDAR