BEGIN:VCALENDAR
VERSION:2.0
X-WR-TIMEZONE:Europe/Paris
PRODID:-//Audencia//NONSGML v1.0//EN
CALSCALE:GREGORIAN
BEGIN:VEVENT
SUMMARY:Webinar: Werenbach - managing change through leadership in turbulent times
DTSTART:20210217T130000
DTEND:20210217T140000
UID:848
DTSTAMP:20260425T205906
LOCATION:
DESCRIPTION:Werenbach: managing change through leadership in turbulent times\n\nDate: 17 February 2021\nTime: 13:00-14:00 Paris time\n\nIn this webinar, Dr Andrés Arenas, Dr Vasilios Stouraitis, Dr Konstantinos Tsanis, and Dr Jessica Bayon Perez will present their latest research on how a Swiss watch company was able to crowdfund a successful initiative that involved the production of watches that are built entirely from space and rocket debris.\n\nThis webinar will link theory with practice, and provide a guide for future managers in how to successfully manage change through strong and innovative leadership in the areas of sustainability.\nAbout the research\nThe research aims to provide a case study for successful change leaders depicting real life examples of management, leadership and change during the Covid-19 period. The case used will be the exceptional case of watch company Werenbach, which has shifted from using traditional approaches to reach its customer base – basically Switzerland and Germany – into transforming its strategy using internet based marketing techniques and aggressive media coverage to reach the Americas and different countries in Europe during the pandemic. \n\nAmong these methods, is the successful management of a crowdfunding during the pandemic period and raising almost half a million euros –  a crowdfunding record – reaching its original pledge (€55,612) in just two minutes. Werenbach has enabled people to enjoy an original product even in extremely adverse circumstances. \nMeet the speakers\n\n\nDr Andrés J. Arenas\nUniversidad Nebrija\n\n\nDr Jessica Bayon Perez\nUniversidad Nebrija\n\n\nDr Vasilios Stouraitis\nGlasgow Caledonian University\n \n\nTo join the webinar\nREGISTER HERE\n \n\nDid you graduate from an AMBA-accredited programme at Audencia?\nThis webinar is accessible to students or alumni of an AMBA-accredited programme at Audencia, i.e., Executive MBA, EuroMBA, Full-Time MBA or Master in Management (Grande Ecole Programme), but registration is required. Registering as an alum of an AMBA-accredited programme takes only a few minutes.\nThis event is free for AMBA members to attend but registration is required using the link above.
BEGIN:VALARM
ACTION:DISPLAY
TRIGGER:-PT60M
DESCRIPTION:Webinar: Werenbach - managing change through leadership in turbulent times
END:VALARM
END:VEVENT
END:VCALENDAR