BEGIN:VCALENDAR
VERSION:2.0
X-WR-TIMEZONE:Europe/Paris
PRODID:-//Audencia//NONSGML v1.0//EN
CALSCALE:GREGORIAN
BEGIN:VEVENT
SUMMARY:Webinar: Weather or not?  The personal and commercial impacts of weather and climate
DTSTART:20210120T130000
DTEND:20210120T130000
UID:847
DTSTAMP:20260425T205852
LOCATION:
DESCRIPTION:Join the webinar brought to you by AMBA, the Association of MBAs!\n\nDate: 20 January 2021\nTime: 13:00-14:00 Paris time\n\nFor every drop of rain, for every flake of snow, \nFor every rise and fall in the mercury, \nFor every breath of wind, for every ray of sunshine, \nFor every storm and for every halcyon day, \nThere is a commensurate and measurable impact upon everything and everyone. \nUnderstand, act and prosper; or do nothing and fade to grey. \n\nWeather and its older sister, climate, are the most important aspects of our lives. Whether on a personal basis or within business, weather is often taken for granted, underestimated and underwhelmed. Yet, its influence on us is so manifest that it should be at the forefront of our minds and part of every business’ strategy, even those that appear not to be that sensitive to the weather. \n\nAt one time in the recent past, no business whatsoever was sensitive to a certain virus, and look what happened. But weather and the impact of the climate have an equal and much longer-term importance, so arm yourself by exploring the effects and the solutions. \nAbout the speaker\nJim N R Dale is the Founder and Senior Consultant at the UK’s longest–established independent meteorological company, British Weather Services. Jim is also the author of the business and educational book, Weather or Not? \n\n \n\nTo join the webinar\nREGISTER HERE\n \n\nDid you graduate from an AMBA-accredited programme at Audencia?\nThis webinar is accessible to students or alumni of an AMBA-accredited programme at Audencia, i.e., Executive MBA, EuroMBA, Full-Time MBA or Master in Management (Grande Ecole Programme), but registration is required. Registering as an alum of an AMBA-accredited programme takes only a few minutes.\nThis event is free for AMBA members to attend but registration is required using the link above.
BEGIN:VALARM
ACTION:DISPLAY
TRIGGER:-PT60M
DESCRIPTION:Webinar: Weather or not?  The personal and commercial impacts of weather and climate
END:VALARM
END:VEVENT
END:VCALENDAR