BEGIN:VCALENDAR
VERSION:2.0
X-WR-TIMEZONE:Europe/Paris
PRODID:-//Audencia//NONSGML v1.0//EN
CALSCALE:GREGORIAN
BEGIN:VEVENT
SUMMARY:Quizz - Questions pour un MOSpion
DTSTART:20201217T183000
DTEND:20201217T190000
UID:842
DTSTAMP:20260425T210046
LOCATION:
DESCRIPTION:Chers Alumni,\n\nVous êtes conviés par la promo MOS 2021 à participer au grand quizz sportif de Noël !! \n \nIl se déroulera dans la soirée du jeudi 17 décembre 2020 (18h30-19h) sous forme de différents quizz joués par équipes de 2 sur plusieurs tours. A la clé, vous attendent de nombreuses surprises !\n \nPour vous inscrire, merci d’envoyer vos équipes de choc (2 personnes par équipe), un thème de prédilection (sportif évidemment) et votre club/équipe/sportif préféré (tous sports confondus) à nushad.merchant@audencia.com avant le 10 décembre. \n \nAlors, d’ici là, révisez bien vos classiques ! On vous attend en pleine forme le jeudi 17 décembre.\n \nPS : Les règles et le déroulement du quizz vous seront communiqués suite à votre inscription.
BEGIN:VALARM
ACTION:DISPLAY
TRIGGER:-PT60M
DESCRIPTION:Quizz - Questions pour un MOSpion
END:VALARM
END:VEVENT
END:VCALENDAR