BEGIN:VCALENDAR
VERSION:2.0
X-WR-TIMEZONE:Europe/Paris
PRODID:-//Audencia//NONSGML v1.0//EN
CALSCALE:GREGORIAN
BEGIN:VEVENT
SUMMARY:#MBA_Community networking event
DTSTART:20210122T181500
DTEND:20210122T191500
UID:840
DTSTAMP:20260425T210007
LOCATION:
DESCRIPTION:Tune in to the online MBA networking session!\nOn Friday 22 January 2021, from 18:15 to 19:30, cconnect conline with fellow MBAs - Full-time, Executive and EuroMBA programmes - from current and previous years and be inspired by their experiences.\n\nAgenda:\n \n\n	18.15: Welcome message\n	18.20-18.35: Ice breaker organised by the current Full-Time MBA class\n	18.35-19.15: Networking session\n\n\nThe Teams links are as follows:\n\n	18.15-19.30 Plenary session\n	18.20-18.35: Ice breaker\n\n\nFour parallel sessions will be active from  18.30-19.30\n\n	Find a classmate – drop in here to connect with MBAs \n	Francophone corner – la salle pour parler français \n	Start-up corner – where entrepreneurs can share tips and experiences\n	Refreshments & conversations – grab a coffee or a campari, whatever suits your timezone best\n\n\n \nRegister here on Together today\nJoin the online event on the day via this link (Microsoft Teams)\n \n\n*An event exclusively for MBA students and alumni*
BEGIN:VALARM
ACTION:DISPLAY
TRIGGER:-PT60M
DESCRIPTION:#MBA_Community networking event
END:VALARM
END:VEVENT
END:VCALENDAR