BEGIN:VCALENDAR
VERSION:2.0
X-WR-TIMEZONE:Europe/Paris
PRODID:-//Audencia//NONSGML v1.0//EN
CALSCALE:GREGORIAN
BEGIN:VEVENT
SUMMARY:Alumni dinner and 120th anniversary celebrations in Shanghai, China
DTSTART:20201219T173000
DTEND:20201219T210000
UID:839
DTSTAMP:20260425T210010
LOCATION:Sud de France 4251 280-3, Yunjin Road, Shanghai
DESCRIPTION:To celebrate the 120th anniversary of Audencia, alumni in Shanghai are invited to join fellow classmates for dinner on Saturday 19 December\n\nDate: Saturday, 19 Dec. 2020\nTime: 17:30-21:00\nVenue: Sud de France 4251\nAddress: 280-3, Yunjin Road, Shanghai\nCost: Free of charge but registration essential\nDress: Smart Casual / Cocktail Attire\n \n \n\n\nREGISTER HERE:\n\n \n
BEGIN:VALARM
ACTION:DISPLAY
TRIGGER:-PT60M
DESCRIPTION:Alumni dinner and 120th anniversary celebrations in Shanghai, China
END:VALARM
END:VEVENT
END:VCALENDAR