BEGIN:VCALENDAR
VERSION:2.0
X-WR-TIMEZONE:Europe/Paris
PRODID:-//Audencia//NONSGML v1.0//EN
CALSCALE:GREGORIAN
BEGIN:VEVENT
SUMMARY:MBA Conversation with Samer Afzal (MBA 17)
DTSTART:20201208T181500
DTEND:20201208T191500
UID:838
DTSTAMP:20260425T210009
LOCATION:
DESCRIPTION:Join the MBA conversation with Samer!\n\nOn Tuesday 8 December from 18:15, alumna Samer will tune in for a conversation with this year's MBA class.\n\nShe will be talking not only about her post-MBA adventure which has taken her, amongst other destinations, to Paris and to Google, she will also be sharing the why and the how behind the launch of her "Let's Éko" podcasts.\n\nRegistration on invitation only!\n
BEGIN:VALARM
ACTION:DISPLAY
TRIGGER:-PT60M
DESCRIPTION:MBA Conversation with Samer Afzal (MBA 17)
END:VALARM
END:VEVENT
END:VCALENDAR