BEGIN:VCALENDAR
VERSION:2.0
X-WR-TIMEZONE:Europe/Paris
PRODID:-//Audencia//NONSGML v1.0//EN
CALSCALE:GREGORIAN
BEGIN:VEVENT
SUMMARY:Evénement Réseau Audencia pour Elles
DTSTART:20201217T120000
DTEND:20201217T130000
UID:837
DTSTAMP:20260425T205954
LOCATION:
DESCRIPTION:Chères toutes !\n \nLa communauté Audencia Pour Elles souhaite se renforcer !\nNous souhaitons que notre cercle de femmes Alumni prenne encore plus d’ampleur, et incarne des valeurs chères à nos yeux : entraide, partage, empowerment & leadership.\n \nSoyons connectées, et inspirées pour participer à faire évoluer les pratiques et les mentalités au cœur de l’entreprise mais également pour porter nos projets les plus audacieux !\n \nRencontrons-nous pour un temps d’échange sur TEAMS le 17 décembre 2020 de 12 à 13h, afin de bien comprendre vos attentes et vos besoins, et ainsi vous proposer un contenu sur-mesure à forte valeur ajoutée.\nInscrivez-vous à l'événement sur Together, et rejoignez-nous en cliquant sur le lien suivant à 12h le 17 décembre prochain:\nCliquez et rejoignez-nous ici!\n\nPour en savoir plus | Options de réunion\n\n \nL’évènement sera co-animé par Hélène Delaunay – développeuse de communautés Alumni à Audencia et Delphine Ricordel, Alumna 2003\n 
BEGIN:VALARM
ACTION:DISPLAY
TRIGGER:-PT60M
DESCRIPTION:Evénement Réseau Audencia pour Elles
END:VALARM
END:VEVENT
END:VCALENDAR