BEGIN:VCALENDAR
VERSION:2.0
X-WR-TIMEZONE:Europe/Paris
PRODID:-//Audencia//NONSGML v1.0//EN
CALSCALE:GREGORIAN
BEGIN:VEVENT
SUMMARY:Invitation - Online - Stand-up comedy show (14 Dec at 1pm)
DTSTART:20201214T130000
DTEND:20201214T140000
UID:835
DTSTAMP:20260425T205853
LOCATION:
DESCRIPTION:(Version française en bas)\n\nDear graduates,\n \nEvery year, we have the pleasure of organizing an evening for the entire Alumni network to enjoy the Christmas and New Year holidays. This event is an opportunity to get to know each other better, and to relax in a friendly atmosphere.\n \nTaking into account the current situation and the fact that 2020 has been an exceptional period, we would like to end the year on a light note by inviting you to an equally exceptional event:\n\n \n\n“How to become a Parisian in one hour?”\nA stand-up comedy by Olivier Giraud\n \n\nBecome a real Parisian in the shops, restaurants, taxis, metro etc. At the end of this fun and interactive show, the "Parisian" will no longer have any secrets for you!\nMore than 800,000 spectators have already followed Olivier Giraud's advice. Why not you?\n \nWhether you are a Parisian at heart, missing life in Paris, just want to understand what makes Parisians tick, or simply want to practice your English, this event is for you.\n \nAs far as registration is concerned:\n=> 2 slots on Monday 14 December:\n     => from 1pm to 2pm: Registration on this page\n     => from 7pm to 8pm: https://bit.ly/39AZ9Bw\n \n=> a small participation of 5 € for your seat, which is normally worth 40 €:\n     => this amount will be donated to the Audencia Foundation which will directly help the students of the School\n \nSo, be numerous to register and look forward to sharing this fun and friendly moment with you.\n \nAudencia Alumni team\n\n================\n\nChers diplômés,\n \nChaque année, nous avons le plaisir d’organiser pour l’ensemble du réseau Alumni une soirée afin de profiter des fêtes de fin d’année. Cet évènement est l’occasion de mieux se connaître, et de se détendre dans une ambiance conviviale et bon enfant.\n \nTenant compte de la situation actuelle et 2020 étant une année inédite, nous vous proposons un rendez-vous lui aussi inédit afin de terminer cette année sur une note drôle et positive : \n\n \n\n« How to become a Parisian in one hour? »\nOne-man show d’Olivier Giraud\n \n\nDevenez un vrai parisien dans les magasins, restaurants, taxis, métro etc. Au terme de cette formation ludique et interactive, le « Parisien » n'aura plus aucun secret pour vous !\nDéjà plus de 800 000 spectateurs ont suivi les conseils d'Olivier Giraud. Pourquoi pas vous ? \nLe niveau d'anglais vous fait peur ? Rassurez-vous, nos spectateurs Français sortent du théâtre avec l'arrogante sensation d'être bilingue.\nQue vous soyez un Parisien dans l'âme, que vous manquiez de vie à Paris, que vous vouliez simplement comprendre ce qui fait vibrer les Parisiens, ou que vous souhaitiez tout simplement pratiquer votre anglais, cet événement est pour vous.\nDress code pour les Parisiens : Ne changez pas vos habitudes, venez en noir !\nDress code pour les Provinciaux : Venez comme vous êtes mais ne nous faites pas honte !\n \nEn ce qui concerne l’inscription :\n=> 2 créneaux le lundi 14 décembre :\n     => de 13h à 14h : Inscrivez-vous sur cette page-ci\n     => de 19h à 20h : https://bit.ly/39AZ9Bw\n \n=> une participation de 5 € pour votre place, qui est normalement a un tarif de 40 €, vous sera demandée et cette somme sera versée à la campagne de fin d'année de la Fondation Audencia, afin de soutenir les étudiants de l'Ecole.\n\nSoyez nombreux à vous inscrire et au plaisir de partager ce moment ludique et convivial avec vous.\n \nL’équipe Audencia Alumni\n \n\nQuestions? : nushad.merchant@audencia.com
BEGIN:VALARM
ACTION:DISPLAY
TRIGGER:-PT60M
DESCRIPTION:Invitation - Online - Stand-up comedy show (14 Dec at 1pm)
END:VALARM
END:VEVENT
END:VCALENDAR