BEGIN:VCALENDAR
VERSION:2.0
X-WR-TIMEZONE:Europe/Paris
PRODID:-//Audencia//NONSGML v1.0//EN
CALSCALE:GREGORIAN
BEGIN:VEVENT
SUMMARY:Webinar : Comprendre et optimiser son réseau professionnel
DTSTART:20201208T183000
DTEND:20201208T200000
UID:834
DTSTAMP:20260425T205956
LOCATION:
DESCRIPTION:\nNous savons tous que le réseau est aujourd’hui l’une des meilleures clés de succès vers une évolution professionnelle et nous avons tous un réseau plus conséquent que nous ne le pensons ! Mais avons-nous conscience de la composition de ce réseau et de ses possibilités ?\n\nDurant ce webinar organisé par le Career Center d'Audencia, nous verrons ensemble :\n✓ Comment considérer le réseautage comme un aboutissement, un état d’esprit et comment y prendre plaisir\n✓ Comment mettre le réseautage au coeur de nos activités professionnelles\n✓ Quels principes régissent le succès ou l’échec du réseautage \n✓ Comment évaluer son réseau et surtout comment l’optimiser \n\nPrérequis Avant la session :\n✓ Commencer à remplir la cartographie de votre réseau à l’aide du document joint : Cartographie
BEGIN:VALARM
ACTION:DISPLAY
TRIGGER:-PT60M
DESCRIPTION:Webinar : Comprendre et optimiser son réseau professionnel
END:VALARM
END:VEVENT
END:VCALENDAR