BEGIN:VCALENDAR
VERSION:2.0
X-WR-TIMEZONE:Europe/Paris
PRODID:-//Audencia//NONSGML v1.0//EN
CALSCALE:GREGORIAN
BEGIN:VEVENT
SUMMARY:Atelier - Quels sont les pré-requis de la créativité ?
DTSTART:20210128T180000
DTEND:20210128T190000
UID:833
DTSTAMP:20260425T211045
LOCATION:
DESCRIPTION:Chers Alumni, \n\nAprès la visio conférence de juin dernier sur « Comment oxygéner sa créativité », je vous propose cette fois-ci de nous attarder sur les pré-requis de la créativité :\nEt si vous agissiez sur ces pré-requis ?\n\nQu’il s’agisse de votre créativité dans votre travail ou dans vos loisirs, mieux comprendre la créativité et sa créativité permet de l’utiliser plus efficacement !\n\nEn tant que responsable marketing chez Christian Lacroix puis Agnes B puis Coty Lancaster et aujourd’hui en tant qu’artiste peintre, la créativité a été  et est en permanence au coeur de mon travail, c’est bien sûr un sujet inépuisable qui me passionne...\n \n\nAu plaisir de vous retrouver,\nBlandine\nGE 94\n\n\n\n\n\n\n\n\n\n\n\n\n\n\n\n\n\n\n\n\nWebsite : www.envied1peinture.com\nInstagram : blandine.ek
BEGIN:VALARM
ACTION:DISPLAY
TRIGGER:-PT60M
DESCRIPTION:Atelier - Quels sont les pré-requis de la créativité ?
END:VALARM
END:VEVENT
END:VCALENDAR