BEGIN:VCALENDAR
VERSION:2.0
X-WR-TIMEZONE:Europe/Paris
PRODID:-//Audencia//NONSGML v1.0//EN
CALSCALE:GREGORIAN
BEGIN:VEVENT
SUMMARY:Webinar : Gestion de tension/Gestion de crise : acquérir une méthode efficace
DTSTART:20201216T190000
DTEND:20201216T203000
UID:832
DTSTAMP:20260425T205909
LOCATION:
DESCRIPTION:L'équipe Audencia Alumni vous propose un webinar inédit le 16 décembre de 19h à 20h30, animé par le capitaine Antonin, officier de l'armée de Terre.\n \n\nGestion de tension/Gestion de crise : acquérir une méthode efficace\n\n \n\nInscription obligatoire\nEvénement gratuit\nLien vers l'évenement\n\nPrésentation du Webinar :\n\nL'actualité récente en France, croisement d'une crise sanitaire et économique, nous montre plus que jamais les enjeux et les défis auxquels chacun peut être confronté.\nDans ce contexte difficile, apparaît régulièrement des situations de tension voire de crise.\nCe webinar a pour objectif de vous faire acquérir une méthode efficace pour mieux les gérer.\n \nAprès une analyse préalable à l'action, nous aborderons différents moyens mnémotechniques et opérationnels. Autant d'outils, facteurs de simplicité, d'aide à la décision et à l'organisation, de votre temps comme de votre équipe, qui vous permettront de vous structurer et de mieux anticiper les étapes suivantes.\nPuis, nous entrerons dans le vif du sujet en voyant comment piloter, coordonner et contrôler le déroulé de votre action avec vos équipes.\nEnfin, nous conclurons par la sortie de crise qui vous permettra d'évaluer entre autres vos actions, vos équipes et vos process afin de les adapter si nécessaire. \n \nInscription obligatoire\nEvénement gratuit\nLien vers l'événement\n \n\nParcours du capitaine Antonin : \n \nOfficier de l'armée de Terre en poste dans un régiment parachutiste, le capitaine Antonin a acquis une expérience significative dans le domaine du management et de la gestion de crise dans le cadre de ses différentes affectations et missions en France comme à l’étranger.\nParallèlement à l’armée, il intervient régulièrement dans diverses structures (universités, écoles de commerce, entreprises, cabinets de formation ou encore collectivités) sur les thèmes du management (leadership, savoir-être, humanisation), de la gestion d’un contexte de tension/gestion de crise et sur le thème de la résilience (optimisation du potentiel, prévention et gestion du stress). \nIl met à notre disposition ses compétences et connaissances dans une période où les décideurs sont plus que jamais confrontés à ces enjeux !
BEGIN:VALARM
ACTION:DISPLAY
TRIGGER:-PT60M
DESCRIPTION:Webinar : Gestion de tension/Gestion de crise : acquérir une méthode efficace
END:VALARM
END:VEVENT
END:VCALENDAR