BEGIN:VCALENDAR
VERSION:2.0
X-WR-TIMEZONE:Europe/Paris
PRODID:-//Audencia//NONSGML v1.0//EN
CALSCALE:GREGORIAN
BEGIN:VEVENT
SUMMARY:Webinar - Les principales étapes pour développer votre référencement naturel (SEO)
DTSTART:20201201T100000
DTEND:20201201T110000
UID:830
DTSTAMP:20260425T223704
LOCATION:
DESCRIPTION:Monsieur Lucien, fondé par Julien TOURME (Bachelor 08 + SciencesCom 10), propose une série des webinars.\n\n? Le 1er décembre à 10h !\n\n? Au programme : "Les principales étapes pour développer votre référencement naturel (SEO)​"\n\n?? Pour s'inscrire, c'est juste ici : https://bit.ly/33mgUQR​
BEGIN:VALARM
ACTION:DISPLAY
TRIGGER:-PT60M
DESCRIPTION:Webinar - Les principales étapes pour développer votre référencement naturel (SEO)
END:VALARM
END:VEVENT
END:VCALENDAR