BEGIN:VCALENDAR
VERSION:2.0
X-WR-TIMEZONE:Europe/Paris
PRODID:-//Audencia//NONSGML v1.0//EN
CALSCALE:GREGORIAN
BEGIN:VEVENT
SUMMARY:Webinar: L'alimentation du futur
DTSTART:20201216T110000
DTEND:20201216T124500
UID:829
DTSTAMP:20260425T205906
LOCATION:
DESCRIPTION:L'alimentation du futur : que mangerons-nous demain ? \n\nRejoignez le webinar organisé par Atlanpole le mercredi 16 décembre de 11:00 à 12:45\n\nLes Pays de la Loire et la Bretagne sont deux régions leaders dans le domaine agroalimentaire. Nous sommes donc très concernés par les enjeux de l'alimentation de demain : comment nourrir la population (9 à 10 milliards d'individus en 2050) tout en préservant notre planète et notre santé ?\n \n\n	Insectes, algues, protéines de synthèse, aliments personnalisés... Quelles sont les innovations qui arriveront dans nos assiettes à court, moyen et long terme ?\n	Nouveaux ingrédients, nouveaux process, quelles sont les tendances observées aujourd'hui ?\n	Quels sont nos atouts et faiblesses en matière de capacité d'innovation dans notre région ?\n\n\nINTERVENANTS\n\n	Jean-Luc PERROT, Directeur de VALORIAL\n	Alain LE BAIL, Professeur ONIRIS-Nantes (Laboratoire GEPEA/CNRS)\n	Etienne DUTHOIT, Dirigeant de VITAL MEAT\n	Gabriel BONEU, Dirigeant de LISAQUA\n\nVous pourrez leur poser toutes vos questions, soit en amont dans le formulaire d’inscription, soit en direct par Tchat au cours de la Formule.\n\n \nINSCRIPTION\nLes modalités de connexion vous seront adressées dans la confirmation d'inscription\n\n\nContact Atlanpole: Isabelle LE ROUIC 02.40.25.01.23 lerouic@atlanpole.fr
BEGIN:VALARM
ACTION:DISPLAY
TRIGGER:-PT60M
DESCRIPTION:Webinar: L'alimentation du futur
END:VALARM
END:VEVENT
END:VCALENDAR