BEGIN:VCALENDAR
VERSION:2.0
X-WR-TIMEZONE:Europe/Paris
PRODID:-//Audencia//NONSGML v1.0//EN
CALSCALE:GREGORIAN
BEGIN:VEVENT
SUMMARY:Club Culture & Management - Nouvelles compétences et soft skills à l’ère de la distanciation
DTSTART:20201209T190000
DTEND:20201209T200000
UID:828
DTSTAMP:20260425T205910
LOCATION:
DESCRIPTION:Dans un marché aussi concurrentiel que celui de la culture et après les différents défis de l’année passée (grèves des transports, crise sanitaire et économique), il est pertinent de s’interroger sur la santé de l’emploi culturel en fin d’année 2020.\n\nAujourd’hui, de nouvelles compétences sont devenues essentielles pour les managers de la culture, comme la digitalisation des contenus, la diversification des financements, la reconquête ou le recrutement de nouveaux publics, l’animation d’une équipe à distance, le retour au bureau ou la gestion du chômage partiel – autant de constats qui mettent en lumière plusieurs questions :\n\n\n	\n	Quelles sont ces nouvelles compétences et nouveaux métiers devenus incontournables ?\n	\n	\n	Quels sont les soft skills nécessaires et comment innover pour assurer une cohésion d’équipe à distance ?\n	\n	\n	Quels sont les conseils à donner à des professionnels en recherche d’emploi en ce moment, que ce soit dans le cas d’un premier poste, d’une évolution ou d’une reconversion ?\n	\n\n\n\nIntervenants\n\n\n	\n	Claude Monnier \n	Sony Music Entertainment / Directeur des Ressources Humaines\n	\n	\n	Yann Le Touher \n	Musée du Louvre / Sous-directeur du mécénat, de la marque et des partenariats commerciaux\n	\n\n\n\n	\n	Elodie Rigal \n	Profilculture / Responsable de ProfilCulture Compétences - Consultante en bilan de compétences\n	\n\n\nModérateur\n\n\n	\n	Julie BOURDEL\n	ADMICAL/Responsable développement et événements, Responsable Emploi c&m\n	\n\n\n \n\nPour réserver\n\n\nMODALITÉS PRATIQUES :\n\n\n	\n	Le webinaire démarre à 19h\n	\n	\n	Après inscription, vous recevrez un lien Zoom pour vous connecter au webinaire\n	\n	\n	Il y aura un temps pour poser des questions aux intervenants après le débat\n	\n	\n	Tarif unique à 10€\n	\n\n \n\nAu plaisir de vous retrouver en ligne,\nL'équipe du Club Culture & Management
BEGIN:VALARM
ACTION:DISPLAY
TRIGGER:-PT60M
DESCRIPTION:Club Culture & Management - Nouvelles compétences et soft skills à l’ère de la distanciation
END:VALARM
END:VEVENT
END:VCALENDAR