BEGIN:VCALENDAR
VERSION:2.0
X-WR-TIMEZONE:Europe/Paris
PRODID:-//Audencia//NONSGML v1.0//EN
CALSCALE:GREGORIAN
BEGIN:VEVENT
SUMMARY:Webinar: Yi Zhang on international careers in China
DTSTART:20201126T110000
DTEND:20201126T120000
UID:827
DTSTAMP:20260425T210029
LOCATION:
DESCRIPTION:Audencia's Career Center is delignted to invite you to a conference organised with the SWUFE campus in Chengdu on Thursday 26 November fmro 11:00 to 12:00 (Paris time) / 18:00-19:00 Shanghai time.\n\nThe guest speaker is Yi ZHANG (GE 2015), based in Shanghai and currently Project Manager at ICS. He has an international experience in the fields of consulting, electricity distribution and automobile. His expertise lies in market analysis, project management and team leadership.\n\nDuring this webinar, Yi ZHANG will discuss international careers in China through the following subjects:\n \n\n	Trends of the Chinese labour market, post COVID\n	Tips of preparing a great CV\n	Advice on how to succeed in an interview for large multi-nationals\n	Ways in which you can market your international experience with future recruiters\n	Impacts from the coronavirus on the labour market\n\n \n\nThis event has been organised exclusively for BBA students in Chengdu!\nPlease contact your programme coordinator on site to receive the registration link
BEGIN:VALARM
ACTION:DISPLAY
TRIGGER:-PT60M
DESCRIPTION:Webinar: Yi Zhang on international careers in China
END:VALARM
END:VEVENT
END:VCALENDAR