BEGIN:VCALENDAR
VERSION:2.0
X-WR-TIMEZONE:Europe/Paris
PRODID:-//Audencia//NONSGML v1.0//EN
CALSCALE:GREGORIAN
BEGIN:VEVENT
SUMMARY:Jobspin Virtual Job Fair Czech Republic
DTSTART:20201125T100000
DTEND:20201127T163000
UID:826
DTSTAMP:20260425T210002
LOCATION:
DESCRIPTION:Discover English-friendly internships and job openings in Czechia & in Europe at the JobspinJobFair on November 25-27th.\nConnect with global employers, join career workshops and seminars, and discover hundreds of job offers at the biggest expat Job Fair in the Czech Republic. \n\nRegister for free ? https://www.jobspin.cz/jobspin-virtual-job-fair-czech-republic/ 
BEGIN:VALARM
ACTION:DISPLAY
TRIGGER:-PT60M
DESCRIPTION:Jobspin Virtual Job Fair Czech Republic
END:VALARM
END:VEVENT
END:VCALENDAR