BEGIN:VCALENDAR
VERSION:2.0
X-WR-TIMEZONE:Europe/Paris
PRODID:-//Audencia//NONSGML v1.0//EN
CALSCALE:GREGORIAN
BEGIN:VEVENT
SUMMARY:Webinar: Herminia Ibarra on changing career at 30, 40 and 50+
DTSTART:20201209T130000
DTEND:20201209T140000
UID:825
DTSTAMP:20260425T210144
LOCATION:
DESCRIPTION:How to Change Career at 30, 40 and 50+\n\nMany of us are re-evaluating our careers because of the current crisis: some are considering a wholly new direction.\n\nBut what kind of career change is realistic in a downturn? How long does it take? And how confident can we be of success at the end?\n\nIn this webinar, Professor Herminia Ibarra will share her ground-breaking research into how successful career change happens, and how the process of change differs at different stages of your life.\n\nWe will examine:\n\n\n	Why you cannot plan your way to career change\n	Why you should expect a miserable middle during transition\n	Why family and friends may not be able to help you as much as you think (and why loose contacts may help more)\n	How long career change normally takes\n\n\nWe will also look at some of the research-based techniques that can help you accelerate your transition:\n\n\n	The critical role of experimentation\n	Why side projects are so valuable and which ones work best\n	How you can manage risk and track progress with regular reflection\n\n\nThis live webinar is from 13:00 to 14:00 (Paris time) on Wednesday 9 December. We have free tickets for member alumni and students here:  \n \nREGISTRATION \nThere are 100 free tickets for Audencia's alumni and students\n(use code "audstudent" if ticket does not show)\n\n\n\n\n\n \n\n\nProfessor Herminia Ibarra is the Charles Handy Professor of Organizational Behaviour at London Business School. Prior to joining LBS, she served on the INSEAD and Harvard Business School faculties. She is a member of the World Economic Forum’s Expert Network, a judge for the Financial Times/McKinsey Business Book of the Year Award, one of Apolitica’s 100 most influential people in gender policy, a Fellow of the British Academy, and the 2018 recipient of the Academy of Management’s Scholar-Practitioner Award for her research’s contribution to management practice. She is the author of two best-selling books, Act Like a Leader, Think Like a Leader and Working Identity: Unconventional Strategies for Reinventing Your Career.\n
BEGIN:VALARM
ACTION:DISPLAY
TRIGGER:-PT60M
DESCRIPTION:Webinar: Herminia Ibarra on changing career at 30, 40 and 50+
END:VALARM
END:VEVENT
END:VCALENDAR