BEGIN:VCALENDAR
VERSION:2.0
X-WR-TIMEZONE:Europe/Paris
PRODID:-//Audencia//NONSGML v1.0//EN
CALSCALE:GREGORIAN
BEGIN:VEVENT
SUMMARY:Career Connections Week 2021
DTSTART:20210118T090000
DTEND:20210120T180000
UID:824
DTSTAMP:20260425T210004
LOCATION:
DESCRIPTION:\n\nPour la 3ème année consécutive, la Career Connections Week se tiendra du 18 au 20 janvier 2021 en format virtuel.\n\nDiplômés, professionnels d'entreprises, et consultants carrière se mobiliseront pour coacher les étudiants de 1ère et 3ème année du programme Grande Ecole avec des témoignages métiers, échanges, business case, conseils...\n\nObjectif : leur permettre d’agir maintenant pour leur future carrière !\n\nVous souhaitez partager votre expérience auprès des étudiants ? C'est par ici :\n\nInscriptions
BEGIN:VALARM
ACTION:DISPLAY
TRIGGER:-PT60M
DESCRIPTION:Career Connections Week 2021
END:VALARM
END:VEVENT
END:VCALENDAR