BEGIN:VCALENDAR
VERSION:2.0
X-WR-TIMEZONE:Europe/Paris
PRODID:-//Audencia//NONSGML v1.0//EN
CALSCALE:GREGORIAN
BEGIN:VEVENT
SUMMARY:CANCELLED Afterwork in Hong Kong: Au revoir et passage du flambeau
DTSTART:20201202T183000
DTEND:20201202T235900
UID:823
DTSTAMP:20260425T205948
LOCATION:Ruam 1/F, J Residence, 60 Johnston Road 000000 Wan Chai, Hong Kong
DESCRIPTION:Suite à la mise en place de nouvelles restrictions pour faire face à la vague de Covid ici à Hong Kong, nos retrouvailles le 2 décembre n'auront pas lieu.\nCe n'est que partie remise.\nA très bientôt!\n\n\nQuittant Hong Kong en janvier 2021, il est l'heure pour moi de passer le flambeau.\nEmma Cardon (GE 2016) va me succèder.\n\nVenez célébrer le passage de flambeau sur la terrasse de Ruam le mercredi 2 décembre prochain de 11h30 à 17h00.\n\nAu plaisir de vous y retrouver.\nBenoit
BEGIN:VALARM
ACTION:DISPLAY
TRIGGER:-PT60M
DESCRIPTION:CANCELLED Afterwork in Hong Kong: Au revoir et passage du flambeau
END:VALARM
END:VEVENT
END:VCALENDAR