BEGIN:VCALENDAR
VERSION:2.0
X-WR-TIMEZONE:Europe/Paris
PRODID:-//Audencia//NONSGML v1.0//EN
CALSCALE:GREGORIAN
BEGIN:VEVENT
SUMMARY:Webinar "Se vendre : si nous levions le tabou ?"
DTSTART:20201201T183000
DTEND:20201201T200000
UID:822
DTSTAMP:20260425T205911
LOCATION:
DESCRIPTION:"Vendre" et plus encore "se vendre", restent pour beaucoup une activité déplaisante, voire rebutante. Pourquoi en avons-nous cette vision ? Y-a-t-il quelque chose d’inexact dans notre regard sur la vente ? Comment faire évoluer positivement notre regard sur cette notion et l’appréhender différemment ?\n\nC’est ce que nous vous proposons lors de ce webinar "Se vendre : si nous levions le tabou ?", animé par Sophie Huchet (GE 90). \n\nA l’issue de celui-ci, vous aurez certainement envie de vendre et de vous vendre…\n \n>> Inscription par mail à tboitel@audencia.com en indiquant le nom de la session & la date <<\n\nCette session se tiendra via Microsoft Teams. Un lien de connexion vous sera adressé le jour même.
BEGIN:VALARM
ACTION:DISPLAY
TRIGGER:-PT60M
DESCRIPTION:Webinar "Se vendre : si nous levions le tabou ?"
END:VALARM
END:VEVENT
END:VCALENDAR