BEGIN:VCALENDAR
VERSION:2.0
X-WR-TIMEZONE:Europe/Paris
PRODID:-//Audencia//NONSGML v1.0//EN
CALSCALE:GREGORIAN
BEGIN:VEVENT
SUMMARY:Webinar : Salary negotiation
DTSTART:20201124T180000
DTEND:20201124T193000
UID:821
DTSTAMP:20260425T210437
LOCATION:
DESCRIPTION:Interview questions and styles may change from business to business however there are questions that are commonly known to be asked at most interviews. Join the workshop to discover and train for these basic-must-know questions\n \n\n>> To register, kindly send an email to tboitel@audencia.com and remember to mention the name and the date of the webinar.<<
BEGIN:VALARM
ACTION:DISPLAY
TRIGGER:-PT60M
DESCRIPTION:Webinar : Salary negotiation
END:VALARM
END:VEVENT
END:VCALENDAR