BEGIN:VCALENDAR
VERSION:2.0
X-WR-TIMEZONE:Europe/Paris
PRODID:-//Audencia//NONSGML v1.0//EN
CALSCALE:GREGORIAN
BEGIN:VEVENT
SUMMARY:French alumnight in Ho Chi Minh City
DTSTART:20201117T190000
DTEND:20201117T235900
UID:820
DTSTAMP:20260425T205847
LOCATION:10 Đường số 54,  Thảo Điền, Quận 2,  Thành phố Hồ Chí Minh 711000
DESCRIPTION:Dear Audencia Friends,\n\nIt has been a long time...I sincerely hope you all have been through the Covid period safely and your relatives as well.\nIt is never too late to catch up over some drinks.\n\nGrandes Ecoles chapter in HCMC is organising a get together in a super cool new venue in Thao Dien (great outside terrasse) from 19:00 on Tuesday 17 November 2020.\n\n \nREGISTER HERE!\n\n\nHope we can catchup.\nLooking forward to having a drink with you there.\n\nCheers,\nTam\n\n \n
BEGIN:VALARM
ACTION:DISPLAY
TRIGGER:-PT60M
DESCRIPTION:French alumnight in Ho Chi Minh City
END:VALARM
END:VEVENT
END:VCALENDAR