BEGIN:VCALENDAR
VERSION:2.0
X-WR-TIMEZONE:Europe/Paris
PRODID:-//Audencia//NONSGML v1.0//EN
CALSCALE:GREGORIAN
BEGIN:VEVENT
SUMMARY:Network dinner in Barcelona, Spain
DTSTART:20171003T203000
DTEND:20171003T230000
UID:82
DTSTAMP:20260425T205725
LOCATION:Restaurant Mussol Diagonal Av. Diagonal 488 Barcelona
DESCRIPTION:Nous avons le plaisir de vous proposer une réunion du Chapter Alumni Audencia Barcelona\nle Mardi 3 Octobre à 20h30\nLe rendez-vous sera directement au Restaurant Mussol Diagonal, Av. Diagonal 488 pour dîner ensemble.\nLe paiement se réalisera sur place à la fin du dîner directement au restaurant.\n \n\n\n\n\n\n\n\nWe are pleased to invite you to you a meeting of the Barcelona Alumni Audencia Chapter\non Tuesday, October 3 at 8:30 pm\nWe will meet directlyy at the Restaurant Mussol Diagonal, Av. Diagonal 488 to have dinner together.\nPayment will be made at the end of the dinner directly at the restaurant.\n\n\n\n\n\n\n 
BEGIN:VALARM
ACTION:DISPLAY
TRIGGER:-PT60M
DESCRIPTION:Network dinner in Barcelona, Spain
END:VALARM
END:VEVENT
END:VCALENDAR