BEGIN:VCALENDAR
VERSION:2.0
X-WR-TIMEZONE:Europe/Paris
PRODID:-//Audencia//NONSGML v1.0//EN
CALSCALE:GREGORIAN
BEGIN:VEVENT
SUMMARY:Webinar: opening a company in China
DTSTART:20201124T110000
DTEND:20201124T120000
UID:819
DTSTAMP:20260425T210007
LOCATION:
DESCRIPTION:Audencia, in partnership with CCI FRANCE CHINE, has the pleasure to invite you to a webinar on the theme of opening a company in China\n \nIntroduction\n\nOpening a company in China might seem daunting at first. The business world in China offers many opportunities but does not come short of challenges either. In order to maximise the chances to succeed, any individual wishing to become a entrepreneur in China would be wise to identify these opportunities and challenges from the start.\n\nBased on their personal experiences, Guillaume Rué de Bernadac (GE 2012) and Théophane André-Marilli (GE 2013), two French entrepreneurs based in Shanghai, will share with you important tips on how to open a company in China and avoid the main pitfalls.\n \n\n	Why and how to create a company in China? \n	What initial costs will an entrepreneur be faced with? How to deal with money transfers from/to China?   \n	How to find a business partner / clients?\n	Which social media to use? What digital strategy to adopt?\n	How to hire in China?\n\n \n\n Agenda\n \n11:00-11:05 (Paris) / 18:00-18:05  (Shanghai)        \nWelcome message \nChristophe Germain, Dean of Audencia\n\n11:05-11:40 (Paris) / 18:05-18:40 (Shanghai)\nPresentation \nGuillaume Rué de Bernadac (GE 2012), Théophane André-Mirelli (GE 2013)\nModerated by Ting (Cici) Liu (MBA 2020)\n\n11:40-12:00 (Paris) / 18:40-19:00 (Shanghai)\nQ&A\nIf you wish to ask any questions to the speakers, please send them to Cici beforehand\n\n \nSpeakers\n \n\nGuillaume Rué de Bernadac (GE 2012), CEO & Founder, Académie de Bernadac, moved to Shanghai in 2014 to launch Académie de Bernadac, a company offering etiquette training services. \n\n\n\n\n\nThéophane André-Marilli (GE 2013), CEO & Co-founder, primestance, moved to Shanghai early 2019 and created a sustainable events and communications agency called primestance.\n\n\n\n \n \n\nFurther information & registration\n\nDate: Tuesday 24 November 2020\nTime: 11:00-12:00 France time // 18:00-19:00 China time\nLanguage: English\nFees: Free of charge for Audencia students & alumni\nVenue: Online (xylink)\n\n\nREGISTER ONLINE / 线上报名\n\nVia WeChat 微信 / Scan QR Code 扫描下方二维码\nor click the registration link / 或点击报名链接\n \n\n\n\nThe connecting process will be sent to you by email after registration
BEGIN:VALARM
ACTION:DISPLAY
TRIGGER:-PT60M
DESCRIPTION:Webinar: opening a company in China
END:VALARM
END:VEVENT
END:VCALENDAR