BEGIN:VCALENDAR
VERSION:2.0
X-WR-TIMEZONE:Europe/Paris
PRODID:-//Audencia//NONSGML v1.0//EN
CALSCALE:GREGORIAN
BEGIN:VEVENT
SUMMARY:Conférence "Les liens secrets entre intelligence et 'connerie' - De l’absurdité dans la prise décision !"
DTSTART:20201210T184500
DTEND:20201210T203000
UID:818
DTSTAMP:20260425T205948
LOCATION:
DESCRIPTION:\nExpression majeure de la bêtise humaine, la 'connerie' est toujours logique. « Comment ai-je… avons-nous…ont-ils… pu prendre une décision aussi idiote !? ». Préjugés, impréparation, déni de la réalité, application irréfléchie de modèles préétablis, communication inadaptée… expliquent pourquoi des décideurs intelligents, motivés et expérimentés en arrivent à prendre des décisions aberrantes.\n\nDécouvrez à travers des exemples réels les différentes expressions de la bêtise humaine et leurs conséquences. Savourez les analyses décapantes d’éminents enseignants de Harvard, Stanford et Berkeley et… utilisez l’antidote !\n\n\n\nIntervenant à Audencia, Vincent RIGAUT est coach et conférencier, spécialisé dans le leadership et la prise parole. Il accompagne depuis plus de 10 ans des décideurs dans le monde de l’entreprise, de la politique et des associations. Il a pu observer de près les pièges qui les guettent à l’heure des choix et les partagera avec vous lors d’une conférence qui se voudra la plus interactive possible.\n \n \n\nPour rejoindre cette conférence virtuelle,\nconnectez-vous à la réunion Microsoft Teams en cliquant ici.\nInscription obligatoire au préalable.\n\nPour en savoir plus | Options de réunion\n\n\nContact Audencia Alumni :\nLaëtitia Caliez, lcaliez@audencia.com
BEGIN:VALARM
ACTION:DISPLAY
TRIGGER:-PT60M
DESCRIPTION:Conférence "Les liens secrets entre intelligence et 'connerie' - De l’absurdité dans la prise décision !"
END:VALARM
END:VEVENT
END:VCALENDAR