BEGIN:VCALENDAR
VERSION:2.0
X-WR-TIMEZONE:Europe/Paris
PRODID:-//Audencia//NONSGML v1.0//EN
CALSCALE:GREGORIAN
BEGIN:VEVENT
SUMMARY:Webinar - Créer sa première campagne de publicité sur Facebook & Instagram
DTSTART:20201119T100000
DTEND:20201119T104500
UID:816
DTSTAMP:20260425T210012
LOCATION:
DESCRIPTION:Monsieur Lucien, fondé par Julien TOURME (Bachelor 08 + SciencesCom 10), propose une série des webinars.\n\n? Le 19 novembre à 10h !\n\n? Au programme : Créer sa première campagne de publicité sur Facebook & Instagram​\n\n?? Pour s'inscrire, c'est juste ici : https://bit.ly/3eoZveU
BEGIN:VALARM
ACTION:DISPLAY
TRIGGER:-PT60M
DESCRIPTION:Webinar - Créer sa première campagne de publicité sur Facebook & Instagram
END:VALARM
END:VEVENT
END:VCALENDAR