BEGIN:VCALENDAR
VERSION:2.0
X-WR-TIMEZONE:Europe/Paris
PRODID:-//Audencia//NONSGML v1.0//EN
CALSCALE:GREGORIAN
BEGIN:VEVENT
SUMMARY:Webinar - Rédiger un cahier des charges pour la création d’un site internet
DTSTART:20201116T150000
DTEND:20201116T154500
UID:815
DTSTAMP:20260425T210031
LOCATION:
DESCRIPTION:Monsieur Lucien, fondé par Julien TOURME (Bachelor 08 + SciencesCom 10), propose une série des webinars.\n\n? Le 16 mai à 15h !\n\n? Au programme : "Rédiger un cahier des charges pour la création d’un site internet​"\n\n?? Pour s'inscrire, c'est juste ici : https://bit.ly/2TPNKEG
BEGIN:VALARM
ACTION:DISPLAY
TRIGGER:-PT60M
DESCRIPTION:Webinar - Rédiger un cahier des charges pour la création d’un site internet
END:VALARM
END:VEVENT
END:VCALENDAR