BEGIN:VCALENDAR
VERSION:2.0
X-WR-TIMEZONE:Europe/Paris
PRODID:-//Audencia//NONSGML v1.0//EN
CALSCALE:GREGORIAN
BEGIN:VEVENT
SUMMARY:Webinar - Les 10 étapes pour définir sa stratégie sur les réseaux sociaux
DTSTART:20201113T100000
DTEND:20201113T104500
UID:814
DTSTAMP:20260425T210053
LOCATION:
DESCRIPTION:Monsieur Lucien, fondé par Julien TOURME (Bachelor 08 + SciencesCom 10), propose une série des webinars.\n\n? Le 13 novembre à 10h !\n\n? Au programme : "Les 10 étapes pour définir sa stratégie sur les réseaux sociaux​"\n\n?? Pour s'inscrire, c'est juste ici : https://bit.ly/2GnIzbR
BEGIN:VALARM
ACTION:DISPLAY
TRIGGER:-PT60M
DESCRIPTION:Webinar - Les 10 étapes pour définir sa stratégie sur les réseaux sociaux
END:VALARM
END:VEVENT
END:VCALENDAR