BEGIN:VCALENDAR
VERSION:2.0
X-WR-TIMEZONE:Europe/Paris
PRODID:-//Audencia//NONSGML v1.0//EN
CALSCALE:GREGORIAN
BEGIN:VEVENT
SUMMARY:Webinar - LinkedIn pour développer son activité : profil et page
DTSTART:20201112T150000
DTEND:20201112T154500
UID:813
DTSTAMP:20260425T210008
LOCATION:
DESCRIPTION:Monsieur Lucien, fondé par Julien TOURME (Bachelor 08 + SciencesCom 10), propose une série des webinars.\n\n? Le 12 novembre à 15h !\n\n? Au programme : "LinkedIn pour développer son activité : profil et page​"\n\n?? Pour s'inscrire, c'est juste ici : https://bit.ly/385cTDI
BEGIN:VALARM
ACTION:DISPLAY
TRIGGER:-PT60M
DESCRIPTION:Webinar - LinkedIn pour développer son activité : profil et page
END:VALARM
END:VEVENT
END:VCALENDAR